{"text_format":"1","workbook":"xlsx","n_sheets":3,"sheets":["HASTA 6 AÑOS","CAT. INTERMEDIA FINAL","CAT. DAMAS FINAL"],"not_rendered":{"charts":0,"images":4,"macros":1,"external_links":0,"defined_names":15,"comments":2,"pivot_tables":0},"unopened":[],"bounds":{"document_bytes":16777216,"sheet_cells":100000,"rows_first":2000,"rows_last":500,"rows_between":2000,"halvings":0,"cell_chars":16384,"cell_head_chars":4096},"cells_cut":0,"cells_raw":0,"read":"whole","date_system":"1900"}

{"sheet":"HASTA 6 AÑOS","index":0,"n_rows":35,"n_cols":36,"rows_kept":35,"cut":false,"hidden":false,"merged":[[7,0,7,1],[2,2,2,26],[3,2,3,26],[4,2,4,26],[6,2,6,26],[9,9,9,14],[9,15,9,20],[9,21,9,26],[10,3,10,8],[10,15,10,20],[10,21,10,26],[11,3,11,8],[11,9,11,14],[11,21,11,26],[14,3,14,8],[14,9,14,14],[14,15,14,20],[12,15,12,20],[14,21,14,26],[12,3,12,8],[12,9,12,14],[13,21,13,26],[16,0,16,1],[18,9,18,14],[18,15,18,20],[18,21,18,26],[19,3,19,8],[19,15,19,20],[19,21,19,26],[32,9,32,14],[31,3,31,8],[20,3,20,8],[20,9,20,14],[20,21,20,26],[21,3,21,8],[21,9,21,14],[21,15,21,20],[22,9,22,14],[22,15,22,20],[22,21,22,26],[23,3,23,8],[23,9,23,14],[23,15,23,20],[23,21,23,26],[13,15,13,20],[13,9,13,14],[33,3,33,8],[25,0,26,14],[31,9,31,14],[33,9,33,14],[34,3,34,8],[27,2,27,8],[27,9,28,14],[27,1,28,1],[27,0,28,0],[29,3,29,8],[29,9,29,14],[30,3,30,8],[30,9,30,14],[34,9,34,14],[28,3,28,8],[32,3,32,8]]}
[null,null,"SENCILLOS CUADRO DE ROUND ROBIN."]
["Torneo",null,"4TA PARADA DEPARTAMENTAL INFANTIL 2019"]
["Sede",null,"LIGA SANTANDEREANA DE TENIS"]
["Clase",null,"CUADRO DE ROUND ROBIN"]
["Ciudad",null,"BUACARAMANGA"]
["Categoría",null,"HASTA 6 AÑOS"]
["Fecha",null,"26 Y 27 DE OCTUBRE"]
["DIA 1"]
["N°","JUGADOR ","CLUB",null,null,null,1,null,null,null,null,null,2,null,null,null,null,null,3,null,null,null,null,null,4,null,null,5,6,"PUESTO"]
[1,"SIMON COBOS","IND",null,null,null,null,null,null,"10/1 10/1",null,null,null,null,null,"10/4 10/6",null,null,null,null,null,"13/11 10/8",null,null,null,null,null,"4/10 2/10","10/3 10/1","1",50]
[2,"SARA ALVIAR","CANT","1/10 1/10",null,null,null,null,null,null,null,null,null,null,null,"4/10 6/10",null,null,null,null,null,"2/10 2/10",null,null,null,null,null,"5/10 3/10","10/3 10/6","5",10]
[3,"MARTIN RESTREPO",null,"4/10 6/10",null,null,null,null,null,"10/4 10/6",null,null,null,null,null,null,null,null,null,null,null,"10/4 10/6",null,null,null,null,null,"10/2 10/2","10/3 10/4","2",35]
[4,"MAR PAEZ","IND","11/13 8/10",null,null,null,null,null,"10/2 10/2",null,null,null,null,null,"4/10 6/10",null,null,null,null,null,null,null,null,null,null,null,"10/5 10/2","10/2 10/3","3",25]
[5,"FABIANA CONTRERAS","CC",null,null,null,"10/4 10/2",null,null,"10/5 10/3",null,null,null,null,null,"2/10 2/10",null,null,null,null,null,"5/10 2/10",null,null,null,null,null,null,"10/4 10/5","4",18]
[6,"PAULA BEJARANO","IND","3/10 1/10",null,null,null,null,null,"3/10 6/10",null,null,null,null,null,"3/10 4/10",null,null,null,null,null,"2/10 3/10",null,null,null,null,null,"4/10 5/10",null,"6",6]
[null,null,null,null,null,null,null,null,null,null,null,null,null,null,null,null,null,null,null,null,null,null,null,null,null,null,null,null,null,null,null,null,null,null,null,","]
["DIA 2"]
["N°","JUGADOR ","CLUB",null,null,null,1,null,null,null,null,null,2,null,null,null,null,null,3,null,null,null,null,null,4,null,null,5,6,"PUESTO"]
[1,"SIMON COBOS","IND",null,null,null,null,null,null,"10/3 10/2",null,null,null,null,null,"10/3 10/1",null,null,null,null,null,"10/2 10/3",null,null,null,null,null,"10/8 10/4","10/1 10/1","50"]
[2,"SARA ALVIAR","CANT","3/10 2/10",null,null,null,null,null,null,null,null,null,null,null,"3/10 6/10",null,null,null,null,null,"3/10 2/10",null,null,null,null,null,"4/10 10/6 8/10","10/2 10/6","10"]
[3,"MARTIN RESTREPO",null,"3/10 1/10",null,null,null,null,null,"10/3 10/6",null,null,null,null,null,null,null,null,null,null,null,"10/5 12/10",null,null,null,null,null,"10/4 10/6","10/2 10/3","35"]
[4,"MAR PAEZ","IND","2/10 3/10",null,null,null,null,null,"10/3 10/2",null,null,null,null,null,"5/10 10/12",null,null,null,null,null,null,null,null,null,null,null,"10/5 11/9","10/2 10/3","25"]
[5,"FABIANA CONTRERAS","CC",null,null,"8/10 4/10",null,null,null,"10/4 6/10 10/8",null,null,null,null,null,"4/10 6/10",null,null,null,null,null,"5/10 9/11",null,null,null,null,null,null,"10/5 10/3","18"]
[6,"PAULA BEJARANO","IND","1/10 1/10",null,null,null,null,null,"2/10 6/10",null,null,null,null,null,"2/10 3/10",null,null,null,null,null,"2/10 3/10",null,null,null,null,null,"5/10 3/10",null,"6"]
[]
["TABLA DE POSICIONES"]
[]
["N°","NOMBRE","PUNTOS",null,null,null,null,null,null,"TOTAL"]
[null,null,"DIA 1","DIA 2"]
[1,"SIMON COBOS",50,50,null,null,null,null,null,100]
[2,"MARTIN RESTREPO",35,35,null,null,null,null,null,70]
[3,"MAR PAEZ",25,25,null,null,null,null,null,50]
[4,"FABIANA RESTREPO",18,18,null,null,null,null,null,36]
[5,"SARA ALVIAR",10,10,null,null,null,null,null,20]
[6,"PAULA BEJARANO",6,6,null,null,null,null,null,12]

{"sheet":"CAT. INTERMEDIA FINAL","index":1,"n_rows":79,"n_cols":16,"rows_kept":79,"cut":false,"hidden":true,"merged":[[54,15,54,16],[77,10,78,13],[2,12,2,13],[14,13,14,14],[18,11,18,12],[46,13,46,14],[22,15,22,16]]}
[null,null,null,null,null,null,null,"SENCILLOS CUADRO PRINCIPAL"]
["Torneo",null,"1RA PARADA COPA RANKING RUITOQUE 2016",null,null,"Clase",null,"Sencillos",null,null,null,"Categoría","INTERMEDIA "]
["Sede","Ruitoque Golf Country Club",null,null,null,"Ciudad",null,"Bucaramanga",null,null,null,"Fecha","2017-01-21"]
[]
[null,"St.",{"$f":"IF(OR(F2=\"Week 3\",F2=\"Masters\"),\"CP\",\"Rank\")","v":"Rank"},"Siembra","Apellido y   Nombre",null,null,"Liga",null,"2da Ronda",null,"Cuartos",null,"Semifinales"]
[]
[1,{"$f":"IF($D7=\"\",\"\",VLOOKUP($D7,#REF!,6))","v":""},{"$f":"IF($D7=\"\",\"\",VLOOKUP($D7,#REF!,7))","v":""}]
[]
[2,{"$f":"IF($D9=\"\",\"\",VLOOKUP($D9,#REF!,6))","v":""},{"$f":"IF($D9=\"\",\"\",VLOOKUP($D9,#REF!,7))","v":""}]
[]
[3,{"$f":"IF($D11=\"\",\"\",VLOOKUP($D11,#REF!,6))","v":""},{"$f":"IF($D11=\"\",\"\",VLOOKUP($D11,#REF!,7))","v":""}]
[]
[4,{"$f":"IF($D13=\"\",\"\",VLOOKUP($D13,#REF!,6))","v":""},{"$f":"IF($D13=\"\",\"\",VLOOKUP($D13,#REF!,7))","v":""}]
[null,null,null,null,null,null,null,null,null,null,null,null,null,"JORGE GRANADOS (RL)"]
[5,{"$f":"IF($D15=\"\",\"\",VLOOKUP($D15,#REF!,6))","v":""},{"$f":"IF($D15=\"\",\"\",VLOOKUP($D15,#REF!,7))","v":""}]
[]
[6,{"$f":"IF($D17=\"\",\"\",VLOOKUP($D17,#REF!,6))","v":""},{"$f":"IF($D17=\"\",\"\",VLOOKUP($D17,#REF!,7))","v":""}]
[]
[7,{"$f":"IF($D19=\"\",\"\",VLOOKUP($D19,#REF!,6))","v":""},{"$f":"IF($D19=\"\",\"\",VLOOKUP($D19,#REF!,7))","v":""}]
[null,null,{"$f":"IF($D20=\"\",\"\",VLOOKUP($D20,#REF!,7))","v":""}]
[8,{"$f":"IF($D21=\"\",\"\",VLOOKUP($D21,#REF!,6))","v":""},{"$f":"IF($D21=\"\",\"\",VLOOKUP($D21,#REF!,7))","v":""}]
[null,null,null,null,null,null,null,null,null,null,null,null,null,null,null,"GRANADOS (RL)"]
[9,{"$f":"IF($D23=\"\",\"\",VLOOKUP($D23,#REF!,6))","v":""},{"$f":"IF($D23=\"\",\"\",VLOOKUP($D23,#REF!,7))","v":""},null,null,null,null,null,null,null,null,null,null,null,null,"6/1 6/2"]
[]
[10,{"$f":"IF($D25=\"\",\"\",VLOOKUP($D25,#REF!,6))","v":""},{"$f":"IF($D25=\"\",\"\",VLOOKUP($D25,#REF!,7))","v":""}]
[null,null,null,null,null,null,null,null,null,null,null,"GERMAN D TORRES (RT)"]
[11,{"$f":"IF($D27=\"\",\"\",VLOOKUP($D27,#REF!,6))","v":""},{"$f":"IF($D27=\"\",\"\",VLOOKUP($D27,#REF!,7))","v":""}]
[]
[12,{"$f":"IF($D29=\"\",\"\",VLOOKUP($D29,#REF!,6))","v":""},{"$f":"IF($D29=\"\",\"\",VLOOKUP($D29,#REF!,7))","v":""}]
[null,null,null,null,null,null,null,null,null,null,null,null,null,"TORRES (RT)"]
[13,{"$f":"IF($D31=\"\",\"\",VLOOKUP($D31,#REF!,6))","v":""},{"$f":"IF($D31=\"\",\"\",VLOOKUP($D31,#REF!,7))","v":""},null,null,null,null,null,null,null,null,null,null,"3/6 6/3 10/7"]
[]
[14,{"$f":"IF($D33=\"\",\"\",VLOOKUP($D33,#REF!,6))","v":""},{"$f":"IF($D33=\"\",\"\",VLOOKUP($D33,#REF!,7))","v":""}]
[null,null,null,null,null,null,null,null,null,null,null,"JUAN D MEDINA (CC)"]
[15,{"$f":"IF($D35=\"\",\"\",VLOOKUP($D35,#REF!,6))","v":""},{"$f":"IF($D35=\"\",\"\",VLOOKUP($D35,#REF!,7))","v":""}]
[]
[16,{"$f":"IF($D37=\"\",\"\",VLOOKUP($D37,#REF!,6))","v":""},{"$f":"IF($D37=\"\",\"\",VLOOKUP($D37,#REF!,7))","v":""}]
[null,null,null,null,null,null,null,null,null,null,null,null,null,null,null,"GRANADOS (RL)"]
[17,{"$f":"IF($D39=\"\",\"\",VLOOKUP($D39,#REF!,6))","v":""},{"$f":"IF($D39=\"\",\"\",VLOOKUP($D39,#REF!,7))","v":""},null,null,null,null,null,null,null,null,null,null,null,null,"6/3 6/0"]
[]
[18,{"$f":"IF($D41=\"\",\"\",VLOOKUP($D41,#REF!,6))","v":""},{"$f":"IF($D41=\"\",\"\",VLOOKUP($D41,#REF!,7))","v":""}]
[null,null,null,null,null,null,null,null,null,null,null,"OSCAR SANTOS (CC)"]
[19,{"$f":"IF($D43=\"\",\"\",VLOOKUP($D43,#REF!,6))","v":""},{"$f":"IF($D43=\"\",\"\",VLOOKUP($D43,#REF!,7))","v":""}]
[]
[20,{"$f":"IF($D45=\"\",\"\",VLOOKUP($D45,#REF!,6))","v":""},{"$f":"IF($D45=\"\",\"\",VLOOKUP($D45,#REF!,7))","v":""}]
[null,null,null,null,null,null,null,null,null,null,null,null,null,"SANTOS (CC)"]
[21,{"$f":"IF($D47=\"\",\"\",VLOOKUP($D47,#REF!,6))","v":""},{"$f":"IF($D47=\"\",\"\",VLOOKUP($D47,#REF!,7))","v":""},null,null,null,null,null,null,null,null,null,null,"W/0 6/0 6/0"]
[]
[22,{"$f":"IF($D49=\"\",\"\",VLOOKUP($D49,#REF!,6))","v":""},{"$f":"IF($D49=\"\",\"\",VLOOKUP($D49,#REF!,7))","v":""}]
[null,null,null,null,null,null,null,null,null,null,null,"JUAN C MORENO (RT)"]
[23,{"$f":"IF($D51=\"\",\"\",VLOOKUP($D51,#REF!,6))","v":""},{"$f":"IF($D51=\"\",\"\",VLOOKUP($D51,#REF!,7))","v":""}]
[]
[24,{"$f":"IF($D53=\"\",\"\",VLOOKUP($D53,#REF!,6))","v":""},{"$f":"IF($D53=\"\",\"\",VLOOKUP($D53,#REF!,7))","v":""}]
[null,null,null,null,null,null,null,null,null,null,null,null,null,null,null,"SANTOS (CC)"]
[25,{"$f":"IF($D55=\"\",\"\",VLOOKUP($D55,#REF!,6))","v":""},{"$f":"IF($D55=\"\",\"\",VLOOKUP($D55,#REF!,7))","v":""},null,null,null,null,null,null,null,null,null,null,null,null,"7/5 6/4"]
[]
[26,{"$f":"IF($D57=\"\",\"\",VLOOKUP($D57,#REF!,6))","v":""},{"$f":"IF($D57=\"\",\"\",VLOOKUP($D57,#REF!,7))","v":""}]
[]
[27,{"$f":"IF($D59=\"\",\"\",VLOOKUP($D59,#REF!,6))","v":""},{"$f":"IF($D59=\"\",\"\",VLOOKUP($D59,#REF!,7))","v":""}]
[]
[28,{"$f":"IF($D61=\"\",\"\",VLOOKUP($D61,#REF!,6))","v":""},{"$f":"IF($D61=\"\",\"\",VLOOKUP($D61,#REF!,7))","v":""}]
[null,null,null,null,null,null,null,null,null,null,null,null,null,"JAIR JAIMES (IND)"]
[29,{"$f":"IF($D63=\"\",\"\",VLOOKUP($D63,#REF!,6))","v":""},{"$f":"IF($D63=\"\",\"\",VLOOKUP($D63,#REF!,7))","v":""}]
[]
[30,{"$f":"IF($D65=\"\",\"\",VLOOKUP($D65,#REF!,6))","v":""},{"$f":"IF($D65=\"\",\"\",VLOOKUP($D65,#REF!,7))","v":""}]
[]
[31,{"$f":"IF($D67=\"\",\"\",VLOOKUP($D67,#REF!,6))","v":""},{"$f":"IF($D67=\"\",\"\",VLOOKUP($D67,#REF!,7))","v":""}]
[]
[32,{"$f":"IF($D69=\"\",\"\",VLOOKUP($D69,#REF!,6))","v":""},{"$f":"IF($D69=\"\",\"\",VLOOKUP($D69,#REF!,7))","v":""}]
[]
[null,"Siembras",null,null,null,null,"Lucky Losers"]
[1,{"$f":"IF(D7=1,E7,\"\")","v":""},null,null,null,1]
[2,{"$f":"IF(D69=2,E69,\"\")","v":""},null,null,null,2]
[3,{"$f":"IF(D23=3,E23,IF(D53=3,E53,\"\"))","v":""},null,null,null,3]
[4,{"$f":"IF(D23=4,E23,IF(D53=4,E53,\"\"))","v":""},null,null,null,4]
[5,{"$f":"IF(D21=5,E21,IF(D37=5,E37,IF(D39=5,E39,IF(D55=5,E55,\"\"))))","v":""},null,null,null,5,null,null,null,null,"Supervisor FCT"]
[6,{"$f":"IF(D21=6,E21,IF(D37=6,E37,IF(D39=6,E39,IF(D55=6,E55,\"\"))))","v":""},null,null,null,6]
[7,{"$f":"IF(D21=7,E21,IF(D37=7,E37,IF(D39=7,E39,IF(D55=7,E55,\"\"))))","v":""},null,null,null,7,null,null,null,null,"ORLANDO CEDIEL "]
[8,{"$f":"IF(D21=8,E21,IF(D37=8,E37,IF(D39=8,E39,IF(D55=8,E55,\"\"))))","v":""},null,null,null,8]

{"sheet":"CAT. DAMAS FINAL","index":2,"n_rows":79,"n_cols":16,"rows_kept":79,"cut":false,"hidden":true,"merged":[[77,10,78,13],[62,13,62,14],[46,13,46,14],[2,12,2,15],[22,15,22,16],[38,15,38,16],[13,13,13,14]]}
[null,null,null,null,null,null,null,"SENCILLOS CUADRO PRINCIPAL"]
["Torneo",null,"2DA PARADA COPA RANKING RUITOQUE 2017",null,null,"Clase",null,"Sencillos",null,null,null,"Categoría","DAMAS "]
["Sede","Ruitoque Golf Country Club",null,null,null,"Ciudad",null,"Bucaramanga",null,null,null,"Fecha","5 AL 27 DE NOV"]
[]
[null,"St.",{"$f":"IF(OR(F2=\"Week 3\",F2=\"Masters\"),\"CP\",\"Rank\")","v":"Rank"},"Siembra","Apellido y   Nombre",null,null,"Liga",null,"2da Ronda",null,"Cuartos",null,"Semifinales"]
[]
[1,{"$f":"IF($D7=\"\",\"\",VLOOKUP($D7,#REF!,6))","v":""},{"$f":"IF($D7=\"\",\"\",VLOOKUP($D7,#REF!,7))","v":""}]
[]
[2,{"$f":"IF($D9=\"\",\"\",VLOOKUP($D9,#REF!,6))","v":""},{"$f":"IF($D9=\"\",\"\",VLOOKUP($D9,#REF!,7))","v":""}]
[null,null,null,null,null,null,null,null,null,null,null,"LUCY NUÑEZ (LT)"]
[3,{"$f":"IF($D11=\"\",\"\",VLOOKUP($D11,#REF!,6))","v":""},{"$f":"IF($D11=\"\",\"\",VLOOKUP($D11,#REF!,7))","v":""}]
[]
[4,{"$f":"IF($D13=\"\",\"\",VLOOKUP($D13,#REF!,6))","v":""},{"$f":"IF($D13=\"\",\"\",VLOOKUP($D13,#REF!,7))","v":""}]
[null,null,null,null,null,null,null,null,null,null,null,null,null,"NUÑEZ (LT)"]
[5,{"$f":"IF($D15=\"\",\"\",VLOOKUP($D15,#REF!,6))","v":""},{"$f":"IF($D15=\"\",\"\",VLOOKUP($D15,#REF!,7))","v":""},null,null,null,null,null,null,null,null,null,null,"6/0 6/2"]
[]
[6,{"$f":"IF($D17=\"\",\"\",VLOOKUP($D17,#REF!,6))","v":""},{"$f":"IF($D17=\"\",\"\",VLOOKUP($D17,#REF!,7))","v":""}]
[null,null,null,null,null,null,null,null,null,null,null,"CLAUDIA QUINTERO (RT)"]
[7,{"$f":"IF($D19=\"\",\"\",VLOOKUP($D19,#REF!,6))","v":""},{"$f":"IF($D19=\"\",\"\",VLOOKUP($D19,#REF!,7))","v":""}]
[null,null,{"$f":"IF($D20=\"\",\"\",VLOOKUP($D20,#REF!,7))","v":""}]
[8,{"$f":"IF($D21=\"\",\"\",VLOOKUP($D21,#REF!,6))","v":""},{"$f":"IF($D21=\"\",\"\",VLOOKUP($D21,#REF!,7))","v":""}]
[null,null,null,null,null,null,null,null,null,null,null,null,null,null,null,"NUÑEZ (LT)"]
[9,{"$f":"IF($D23=\"\",\"\",VLOOKUP($D23,#REF!,6))","v":""},{"$f":"IF($D23=\"\",\"\",VLOOKUP($D23,#REF!,7))","v":""},null,null,null,null,null,null,null,null,null,null,null,null,"4/6 6/0 6/1"]
[]
[10,{"$f":"IF($D25=\"\",\"\",VLOOKUP($D25,#REF!,6))","v":""},{"$f":"IF($D25=\"\",\"\",VLOOKUP($D25,#REF!,7))","v":""}]
[null,null,null,null,null,null,null,null,null,null,null,"ROSERMARY RUBIANO (RT)"]
[11,{"$f":"IF($D27=\"\",\"\",VLOOKUP($D27,#REF!,6))","v":""},{"$f":"IF($D27=\"\",\"\",VLOOKUP($D27,#REF!,7))","v":""}]
[]
[12,{"$f":"IF($D29=\"\",\"\",VLOOKUP($D29,#REF!,6))","v":""},{"$f":"IF($D29=\"\",\"\",VLOOKUP($D29,#REF!,7))","v":""}]
[null,null,null,null,null,null,null,null,null,null,null,null,null,"VESGA (RT)"]
[13,{"$f":"IF($D31=\"\",\"\",VLOOKUP($D31,#REF!,6))","v":""},{"$f":"IF($D31=\"\",\"\",VLOOKUP($D31,#REF!,7))","v":""},null,null,null,null,null,null,null,null,null,null,"6/1 6/4"]
[]
[14,{"$f":"IF($D33=\"\",\"\",VLOOKUP($D33,#REF!,6))","v":""},{"$f":"IF($D33=\"\",\"\",VLOOKUP($D33,#REF!,7))","v":""}]
[null,null,null,null,null,null,null,null,null,null,null,"ROSEMARY VESGA (RT)"]
[15,{"$f":"IF($D35=\"\",\"\",VLOOKUP($D35,#REF!,6))","v":""},{"$f":"IF($D35=\"\",\"\",VLOOKUP($D35,#REF!,7))","v":""}]
[]
[16,{"$f":"IF($D37=\"\",\"\",VLOOKUP($D37,#REF!,6))","v":""},{"$f":"IF($D37=\"\",\"\",VLOOKUP($D37,#REF!,7))","v":""}]
[null,null,null,null,null,null,null,null,null,null,null,null,null,null,null,"NUÑEZ (LT)"]
[17,{"$f":"IF($D39=\"\",\"\",VLOOKUP($D39,#REF!,6))","v":""},{"$f":"IF($D39=\"\",\"\",VLOOKUP($D39,#REF!,7))","v":""},null,null,null,null,null,null,null,null,null,null,null,null,"6/2 4/6 7/6"]
[]
[18,{"$f":"IF($D41=\"\",\"\",VLOOKUP($D41,#REF!,6))","v":""},{"$f":"IF($D41=\"\",\"\",VLOOKUP($D41,#REF!,7))","v":""}]
[null,null,null,null,null,null,null,null,null,null,null,"MARIA N PLATA (CC)"]
[19,{"$f":"IF($D43=\"\",\"\",VLOOKUP($D43,#REF!,6))","v":""},{"$f":"IF($D43=\"\",\"\",VLOOKUP($D43,#REF!,7))","v":""}]
[]
[20,{"$f":"IF($D45=\"\",\"\",VLOOKUP($D45,#REF!,6))","v":""},{"$f":"IF($D45=\"\",\"\",VLOOKUP($D45,#REF!,7))","v":""}]
[null,null,null,null,null,null,null,null,null,null,null,null,null,"PLATA (CC)"]
[21,{"$f":"IF($D47=\"\",\"\",VLOOKUP($D47,#REF!,6))","v":""},{"$f":"IF($D47=\"\",\"\",VLOOKUP($D47,#REF!,7))","v":""},null,null,null,null,null,null,null,null,null,null,"6/3 6/3"]
[]
[22,{"$f":"IF($D49=\"\",\"\",VLOOKUP($D49,#REF!,6))","v":""},{"$f":"IF($D49=\"\",\"\",VLOOKUP($D49,#REF!,7))","v":""}]
[null,null,null,null,null,null,null,null,null,null,null,"GLADYS ROSERO (RT)"]
[23,{"$f":"IF($D51=\"\",\"\",VLOOKUP($D51,#REF!,6))","v":""},{"$f":"IF($D51=\"\",\"\",VLOOKUP($D51,#REF!,7))","v":""}]
[]
[24,{"$f":"IF($D53=\"\",\"\",VLOOKUP($D53,#REF!,6))","v":""},{"$f":"IF($D53=\"\",\"\",VLOOKUP($D53,#REF!,7))","v":""}]
[null,null,null,null,null,null,null,null,null,null,null,null,null,null,null,"JONES (ACUA)"]
[25,{"$f":"IF($D55=\"\",\"\",VLOOKUP($D55,#REF!,6))","v":""},{"$f":"IF($D55=\"\",\"\",VLOOKUP($D55,#REF!,7))","v":""},null,null,null,null,null,null,null,null,null,null,null,null,"6/1 6/4"]
[]
[26,{"$f":"IF($D57=\"\",\"\",VLOOKUP($D57,#REF!,6))","v":""},{"$f":"IF($D57=\"\",\"\",VLOOKUP($D57,#REF!,7))","v":""}]
[null,null,null,null,null,null,null,null,null,null,null,"CATALINA SAAVEDRA (RT)"]
[27,{"$f":"IF($D59=\"\",\"\",VLOOKUP($D59,#REF!,6))","v":""},{"$f":"IF($D59=\"\",\"\",VLOOKUP($D59,#REF!,7))","v":""}]
[]
[28,{"$f":"IF($D61=\"\",\"\",VLOOKUP($D61,#REF!,6))","v":""},{"$f":"IF($D61=\"\",\"\",VLOOKUP($D61,#REF!,7))","v":""}]
[null,null,null,null,null,null,null,null,null,null,null,null,null,"JONES (ACUA)"]
[29,{"$f":"IF($D63=\"\",\"\",VLOOKUP($D63,#REF!,6))","v":""},{"$f":"IF($D63=\"\",\"\",VLOOKUP($D63,#REF!,7))","v":""},null,null,null,null,null,null,null,null,null,null,"6/0 6/0"]
[]
[30,{"$f":"IF($D65=\"\",\"\",VLOOKUP($D65,#REF!,6))","v":""},{"$f":"IF($D65=\"\",\"\",VLOOKUP($D65,#REF!,7))","v":""}]
[null,null,null,null,null,null,null,null,null,null,null,"CAROLINA JONES (ACUAC)"]
[31,{"$f":"IF($D67=\"\",\"\",VLOOKUP($D67,#REF!,6))","v":""},{"$f":"IF($D67=\"\",\"\",VLOOKUP($D67,#REF!,7))","v":""}]
[]
[32,{"$f":"IF($D69=\"\",\"\",VLOOKUP($D69,#REF!,6))","v":""},{"$f":"IF($D69=\"\",\"\",VLOOKUP($D69,#REF!,7))","v":""}]
[]
[null,"Siembras",null,null,null,null,"Lucky Losers"]
[1,{"$f":"IF(D7=1,E7,\"\")","v":""},null,null,null,1]
[2,{"$f":"IF(D69=2,E69,\"\")","v":""},null,null,null,2]
[3,{"$f":"IF(D23=3,E23,IF(D53=3,E53,\"\"))","v":""},null,null,null,3]
[4,{"$f":"IF(D23=4,E23,IF(D53=4,E53,\"\"))","v":""},null,null,null,4]
[5,{"$f":"IF(D21=5,E21,IF(D37=5,E37,IF(D39=5,E39,IF(D55=5,E55,\"\"))))","v":""},null,null,null,5,null,null,null,null,"Supervisor FCT"]
[6,{"$f":"IF(D21=6,E21,IF(D37=6,E37,IF(D39=6,E39,IF(D55=6,E55,\"\"))))","v":""},null,null,null,6]
[7,{"$f":"IF(D21=7,E21,IF(D37=7,E37,IF(D39=7,E39,IF(D55=7,E55,\"\"))))","v":""},null,null,null,7,null,null,null,null,"ORLANDO CEDIEL "]
[8,{"$f":"IF(D21=8,E21,IF(D37=8,E37,IF(D39=8,E39,IF(D55=8,E55,\"\"))))","v":""},null,null,null,8]